BEGIN:VCALENDAR
VERSION:2.0
PRODID:-//jEvents 2.0 for Joomla//EN
CALSCALE:GREGORIAN
METHOD:PUBLISH
BEGIN:VTIMEZONE
TZID:Europe/Berlin
BEGIN:STANDARD
DTSTART:20241027T020000
RDATE:20250330T030000
TZOFFSETFROM:+0200
TZOFFSETTO:+0100
TZNAME:Europe/Berlin CET
END:STANDARD
BEGIN:STANDARD
DTSTART:20251026T020000
RDATE:20260329T030000
TZOFFSETFROM:+0200
TZOFFSETTO:+0100
TZNAME:Europe/Berlin CET
END:STANDARD
BEGIN:STANDARD
DTSTART:20261025T020000
RDATE:20270328T030000
TZOFFSETFROM:+0200
TZOFFSETTO:+0100
TZNAME:Europe/Berlin CET
END:STANDARD
BEGIN:STANDARD
DTSTART:20271031T020000
RDATE:20280326T030000
TZOFFSETFROM:+0200
TZOFFSETTO:+0100
TZNAME:Europe/Berlin CET
END:STANDARD
BEGIN:STANDARD
DTSTART:20281029T020000
RDATE:20290325T030000
TZOFFSETFROM:+0200
TZOFFSETTO:+0100
TZNAME:Europe/Berlin CET
END:STANDARD
BEGIN:STANDARD
DTSTART:20291028T020000
RDATE:20300331T030000
TZOFFSETFROM:+0200
TZOFFSETTO:+0100
TZNAME:Europe/Berlin CET
END:STANDARD
BEGIN:STANDARD
DTSTART:20301027T020000
RDATE:20310330T030000
TZOFFSETFROM:+0200
TZOFFSETTO:+0100
TZNAME:Europe/Berlin CET
END:STANDARD
BEGIN:STANDARD
DTSTART:20311026T020000
RDATE:20320328T030000
TZOFFSETFROM:+0200
TZOFFSETTO:+0100
TZNAME:Europe/Berlin CET
END:STANDARD
BEGIN:DAYLIGHT
DTSTART:20240623T193000
RDATE:20241027T020000
TZOFFSETFROM:+0100
TZOFFSETTO:+0200
TZNAME:Europe/Berlin CEST
END:DAYLIGHT
BEGIN:DAYLIGHT
DTSTART:20250330T030000
RDATE:20251026T020000
TZOFFSETFROM:+0100
TZOFFSETTO:+0200
TZNAME:Europe/Berlin CEST
END:DAYLIGHT
BEGIN:DAYLIGHT
DTSTART:20260329T030000
RDATE:20261025T020000
TZOFFSETFROM:+0100
TZOFFSETTO:+0200
TZNAME:Europe/Berlin CEST
END:DAYLIGHT
BEGIN:DAYLIGHT
DTSTART:20270328T030000
RDATE:20271031T020000
TZOFFSETFROM:+0100
TZOFFSETTO:+0200
TZNAME:Europe/Berlin CEST
END:DAYLIGHT
BEGIN:DAYLIGHT
DTSTART:20280326T030000
RDATE:20281029T020000
TZOFFSETFROM:+0100
TZOFFSETTO:+0200
TZNAME:Europe/Berlin CEST
END:DAYLIGHT
BEGIN:DAYLIGHT
DTSTART:20290325T030000
RDATE:20291028T020000
TZOFFSETFROM:+0100
TZOFFSETTO:+0200
TZNAME:Europe/Berlin CEST
END:DAYLIGHT
BEGIN:DAYLIGHT
DTSTART:20300331T030000
RDATE:20301027T020000
TZOFFSETFROM:+0100
TZOFFSETTO:+0200
TZNAME:Europe/Berlin CEST
END:DAYLIGHT
BEGIN:DAYLIGHT
DTSTART:20310330T030000
RDATE:20311026T020000
TZOFFSETFROM:+0100
TZOFFSETTO:+0200
TZNAME:Europe/Berlin CEST
END:DAYLIGHT
END:VTIMEZONE
BEGIN:VEVENT
UID:9e8d8c9c74d97688cb483a5ba2882e26
CATEGORIES:Sitzungen
CREATED:20250621T174843
SUMMARY:Gemeinderatssitzung
LOCATION:Sitzungssaal Rathaus Oberndorf
DESCRIPTION:TAGESORDNUNG:\nÖffentliche Sitzung\n1 Genehmigung der Niederschrift - öffen
 tlicher Teil vom 27.05.2025\n2 Information zur Rechtsstellung des Ersten Bü
 rgermeisters\n3 Bauantrag zur Nutzungsänderung des Kindergartens Oberndorf;
  Bauort: Fl. Nr. 97/1, Kirchstr. 3, Gem. Oberndorf\n4 Bekanntgabe der in ni
 chtöffentlicher Sitzung gefassten Beschlüsse\n5 Sonstige aktuelle Informati
 onen\n6 Verschiedenes, Wünsche und Anfragen\n
X-ALT-DESC;FMTTYPE=text/html:<p>TAGESORDNUNG:<br />Öffentliche Sitzung<br />1 Genehmigung der Niederschr
 ift - öffentlicher Teil vom 27.05.2025<br />2 Information zur Rechtsstellun
 g des Ersten Bürgermeisters<br />3 Bauantrag zur Nutzungsänderung des Kinde
 rgartens Oberndorf; Bauort: Fl. Nr. 97/1, Kirchstr. 3, Gem. Oberndorf<br />
 4 Bekanntgabe der in nichtöffentlicher Sitzung gefassten Beschlüsse<br />5 
 Sonstige aktuelle Informationen<br />6 Verschiedenes, Wünsche und Anfragen<
 /p>
CONTACT:Gemeinde Bischbrunn
DTSTAMP:20260424T081729
DTSTART;TZID=Europe/Berlin:20250624T193000
SEQUENCE:0
TRANSP:OPAQUE
END:VEVENT
END:VCALENDAR